BEGIN:VCALENDAR
VERSION:2.0
PRODID:-//Humane Society of Jefferson County - ECPv6.15.20//NONSGML v1.0//EN
CALSCALE:GREGORIAN
METHOD:PUBLISH
X-ORIGINAL-URL:https://hsjc-wis.com
X-WR-CALDESC:Events for Humane Society of Jefferson County
REFRESH-INTERVAL;VALUE=DURATION:PT1H
X-Robots-Tag:noindex
X-PUBLISHED-TTL:PT1H
BEGIN:VTIMEZONE
TZID:America/Chicago
BEGIN:DAYLIGHT
TZOFFSETFROM:-0600
TZOFFSETTO:-0500
TZNAME:CDT
DTSTART:20240310T080000
END:DAYLIGHT
BEGIN:STANDARD
TZOFFSETFROM:-0500
TZOFFSETTO:-0600
TZNAME:CST
DTSTART:20241103T070000
END:STANDARD
BEGIN:DAYLIGHT
TZOFFSETFROM:-0600
TZOFFSETTO:-0500
TZNAME:CDT
DTSTART:20250309T080000
END:DAYLIGHT
BEGIN:STANDARD
TZOFFSETFROM:-0500
TZOFFSETTO:-0600
TZNAME:CST
DTSTART:20251102T070000
END:STANDARD
BEGIN:DAYLIGHT
TZOFFSETFROM:-0600
TZOFFSETTO:-0500
TZNAME:CDT
DTSTART:20260308T080000
END:DAYLIGHT
BEGIN:STANDARD
TZOFFSETFROM:-0500
TZOFFSETTO:-0600
TZNAME:CST
DTSTART:20261101T070000
END:STANDARD
END:VTIMEZONE
BEGIN:VEVENT
DTSTART;TZID=America/Chicago:20250225T170000
DTEND;TZID=America/Chicago:20250225T200000
DTSTAMP:20260425T091957
CREATED:20250127T213815Z
LAST-MODIFIED:20260105T161905Z
UID:909-1740502800-1740513600@hsjc-wis.com
SUMMARY:Spay-ghetti Dinner
DESCRIPTION:Join us for a delicious Spay-ghetti Dinner to support our Community Cat Program on February 25th at the Humane Society of Jefferson County! For just $15 per plate\, you can enjoy a hearty meal while making a difference for cats in need. Arrive any time between 5:00 PM and 8:00 PM to dine in with us at the shelter or grab your meal to go—vegan and vegetarian options will be available. \nThe evening will also feature a 50/50 raffle and a wine pull\, adding extra fun to this meaningful event. Reservations are required and must be made online by February 23rd. \nCome hungry and leave knowing you’ve helped our community’s cats! \nRegistration is now closed!
URL:https://hsjc-wis.com/event/spay-ghetti-dinner2/
LOCATION:Humane Society of Jefferson County\, W6127 Kiesling Rd\, Jefferson\, WI\, 53549\, United States
CATEGORIES:Fundraiser
ATTACH;FMTTYPE=image/png:https://hsjc-wis.com/wp-content/uploads/2025/01/Spay-ghetti-Dinner-Feature.png
ORGANIZER;CN="Humane Society of Jefferson County":MAILTO:shelter@hsjc-wis.com
END:VEVENT
END:VCALENDAR